BEGIN:VCALENDAR
VERSION:2.0
PRODID:-//Tukios.com/
BEGIN:VEVENT
UID:54ca8f00-8665-4438-8360-b98bd28065ac@www.wernerharmsenfuneralhome.com
DTSTAMP:20260425T010145Z
DTSTART:20260429T180000Z
DTEND:20260429T200000Z
SUMMARY:Visitation
DESCRIPTION:
URL:https://www.wernerharmsenfuneralhome.com/obituaries/helen-bronkhorst
LOCATION:Werner-Harmsen Funeral Home 201 East Jefferson Street  Waupun WI 
	53963
GEO:43.6318346;-88.7319197
END:VEVENT
END:VCALENDAR