BEGIN:VCALENDAR
VERSION:2.0
PRODID:-//Tukios.com/
BEGIN:VEVENT
UID:0af5936f-27db-4ef2-8210-64bfded417cc@www.wernerharmsenfuneralhome.com
DTSTAMP:20260425T005915Z
DTSTART:20260429T200000Z
DTEND:20260429T210000Z
SUMMARY:Funeral Service
DESCRIPTION:
URL:https://www.wernerharmsenfuneralhome.com/obituaries/helen-bronkhorst
LOCATION:Werner-Harmsen Funeral Home 201 East Jefferson Street  Waupun WI 
	53963
GEO:43.6318346;-88.7319197
END:VEVENT
END:VCALENDAR