BEGIN:VCALENDAR
VERSION:2.0
PRODID:-//Tukios.com/
BEGIN:VEVENT
UID:0b4cb33c-d22f-46eb-881e-9499b0d42e71@www.wernerharmsenfuneralhome.com
DTSTAMP:20260425T005914Z
DTSTART:20260429
SUMMARY:Burial
DESCRIPTION:Burial to follow service.
URL:https://www.wernerharmsenfuneralhome.com/obituaries/helen-bronkhorst
LOCATION: 225 E Spring St  Waupun WI 53963
GEO:43.6390403;-88.7302369
END:VEVENT
END:VCALENDAR