BEGIN:VCALENDAR
VERSION:2.0
PRODID:-//Tukios.com/
BEGIN:VEVENT
UID:b6305757-2d0f-485a-af60-cff8c49a65fd@www.wernerharmsenfuneralhome.com
DTSTAMP:20260421T234911Z
DTSTART:20260622T160000Z
DTEND:20260622T170000Z
SUMMARY:Graveside Service
DESCRIPTION:
URL:https://www.wernerharmsenfuneralhome.com/obituaries/michael-smith
LOCATION:National Memorial Cemetery of Arizona 2929 East Pinnacle Peak 
	Road  Phoenix AZ 85024
GEO:33.6986868;-112.0193677
END:VEVENT
END:VCALENDAR