BEGIN:VCALENDAR
VERSION:2.0
PRODID:-//Tukios.com/
BEGIN:VEVENT
UID:d33c32b3-6055-4899-947c-15993374e9c6@www.wernerharmsenfuneralhome.com
DTSTAMP:20260422T181850Z
DTSTART:20260424T140000Z
DTEND:20260424T160000Z
SUMMARY:Visitation
DESCRIPTION:
URL:https://www.wernerharmsenfuneralhome.com/obituaries/steven-tetzlaff
LOCATION:Werner Harmsen Funeral Home 201 East Jefferson Street  Waupun WI 
	53963
GEO:43.6318346;-88.7319197
END:VEVENT
END:VCALENDAR