BEGIN:VCALENDAR
VERSION:2.0
PRODID:-//Tukios.com/
BEGIN:VEVENT
UID:d1dda2d1-9b6f-4266-8a67-610f03591e73@www.wernerharmsenfuneralhome.com
DTSTAMP:20260422T182122Z
DTSTART:20260424T160000Z
DTEND:20260424T170000Z
SUMMARY:Funeral Service
DESCRIPTION:
URL:https://www.wernerharmsenfuneralhome.com/obituaries/steven-tetzlaff
LOCATION:Werner Harmsen Funeral Home 201 East Jefferson Street  Waupun WI 
	53963
GEO:43.6318346;-88.7319197
END:VEVENT
END:VCALENDAR