BEGIN:VCALENDAR
VERSION:2.0
PRODID:-//Tukios.com/
BEGIN:VEVENT
UID:ba05cc00-1a81-428b-abc7-e2945cea64df@www.wernerharmsenfuneralhome.com
DTSTAMP:20260422T182844Z
DTSTART:20260424T180000Z
DTEND:20260424T190000Z
SUMMARY:Celebration of Life
DESCRIPTION:
URL:https://www.wernerharmsenfuneralhome.com/obituaries/steven-tetzlaff
LOCATION:American Legion Post 521 220 W State St  Fox Lake WI 53933
GEO:43.565705;-88.9090705
END:VEVENT
END:VCALENDAR