BEGIN:VCALENDAR
VERSION:2.0
PRODID:-//Tukios.com/
BEGIN:VEVENT
UID:cebab963-35f2-4eb6-9393-c09dd269ff0e@www.wernerharmsenfuneralhome.com
DTSTAMP:20260425T035325Z
DTSTART:20260429T150000Z
DTEND:20260429T160000Z
SUMMARY:Visitation
DESCRIPTION:
URL:https://www.wernerharmsenfuneralhome.com/obituaries/timothy-kamphuis
LOCATION:Bethel Church of Brandon 305 W Main St  Brandon WI 53919
GEO:43.735273;-88.7856218
END:VEVENT
END:VCALENDAR