BEGIN:VCALENDAR
VERSION:2.0
PRODID:-//Tukios.com/
BEGIN:VEVENT
UID:d3953336-49a4-456d-a9ae-0f07f298c508@www.wernerharmsenfuneralhome.com
DTSTAMP:20260425T035855Z
DTSTART:20260429T160000Z
DTEND:20260429T170000Z
SUMMARY:Funeral Service
DESCRIPTION:
URL:https://www.wernerharmsenfuneralhome.com/obituaries/timothy-kamphuis
LOCATION:Bethel Church of Brandon 305 W Main St  Brandon WI 53919
GEO:43.735273;-88.7856218
END:VEVENT
END:VCALENDAR