BEGIN:VCALENDAR
VERSION:2.0
PRODID:-//Tukios.com/
BEGIN:VEVENT
UID:0108e280-cd74-4d8e-92e1-a07d3a973966@www.wernerharmsenfuneralhome.com
DTSTAMP:20260425T035744Z
DTSTART:20260428T220000Z
DTEND:20260429T010000Z
SUMMARY:Visitation
DESCRIPTION:
URL:https://www.wernerharmsenfuneralhome.com/obituaries/timothy-kamphuis
LOCATION:Werner Harmsen Funeral Home 201 East Jefferson Street  Waupun WI 
	53963
GEO:43.6318346;-88.7319197
END:VEVENT
END:VCALENDAR